BEGIN:VCALENDAR
VERSION:2.0
PRODID:-//ICPNA CHICLAYO - ECPv6.15.15//NONSGML v1.0//EN
CALSCALE:GREGORIAN
METHOD:PUBLISH
X-ORIGINAL-URL:https://chiclayo.icpnachi.edu.pe
X-WR-CALDESC:Events for ICPNA CHICLAYO
REFRESH-INTERVAL;VALUE=DURATION:PT1H
X-Robots-Tag:noindex
X-PUBLISHED-TTL:PT1H
BEGIN:VTIMEZONE
TZID:America/New_York
BEGIN:DAYLIGHT
TZOFFSETFROM:-0500
TZOFFSETTO:-0400
TZNAME:EDT
DTSTART:20250309T070000
END:DAYLIGHT
BEGIN:STANDARD
TZOFFSETFROM:-0400
TZOFFSETTO:-0500
TZNAME:EST
DTSTART:20251102T060000
END:STANDARD
BEGIN:DAYLIGHT
TZOFFSETFROM:-0500
TZOFFSETTO:-0400
TZNAME:EDT
DTSTART:20260308T070000
END:DAYLIGHT
BEGIN:STANDARD
TZOFFSETFROM:-0400
TZOFFSETTO:-0500
TZNAME:EST
DTSTART:20261101T060000
END:STANDARD
BEGIN:DAYLIGHT
TZOFFSETFROM:-0500
TZOFFSETTO:-0400
TZNAME:EDT
DTSTART:20270314T070000
END:DAYLIGHT
BEGIN:STANDARD
TZOFFSETFROM:-0400
TZOFFSETTO:-0500
TZNAME:EST
DTSTART:20271107T060000
END:STANDARD
END:VTIMEZONE
BEGIN:VEVENT
DTSTART;TZID=America/New_York:20260417T173000
DTEND;TZID=America/New_York:20260417T190000
DTSTAMP:20260425T193206
CREATED:20260413T141643Z
LAST-MODIFIED:20260413T141643Z
UID:3564-1776447000-1776452400@chiclayo.icpnachi.edu.pe
SUMMARY:Back to the Moon: Artemis II
DESCRIPTION:🚀 Ready for a space adventure? \nJoin us in “Back to the Moon: Artemis II” 🌙\nand explore space through a VR experience like never before \n📅 Friday\, April 17\n🕠 5:30 p.m.\n📍 Auditorium ICPNA Chiclayo (Manuel Maria Izaga 807)\n👥Audience: Public with a high intermediate/advanced English level
URL:https://chiclayo.icpnachi.edu.pe/eventos/back-to-the-moon-artemis-ii
LOCATION:Auditorio – ICPNA CHICLAYO\, Manuel Maria Izaga 807\, Chiclayo\, Lambayeque\, 14001\, Peru
CATEGORIES:Biblioteca
ATTACH;FMTTYPE=image/jpeg:https://chiclayo.icpnachi.edu.pe/wp-content/uploads/2026/04/669014279_1391425026359942_8558006201028508253_n.jpg
END:VEVENT
BEGIN:VEVENT
DTSTART;VALUE=DATE:20260420
DTEND;VALUE=DATE:20260425
DTSTAMP:20260425T193206
CREATED:20260410T210807Z
LAST-MODIFIED:20260410T210807Z
UID:3561-1776643200-1777075199@chiclayo.icpnachi.edu.pe
SUMMARY:4to Festival del Libro y la Lectura
DESCRIPTION:Vuelve el evento favorito de los amantes de las letras: el 4to Festival del Libro y la Lectura.\nCinco días cargados de cultura en el ICPNA Chiclayo con actividades diseñadas especialmente para niños\, jóvenes y adultos. ¡No hay excusa para quedarse en casa! 🏠❌\n✅ Cuentacuentos\, teatro\n✅ Cine\, café literario y speaking circle\n✅ Talleres y más.\nNo importa tu edad\, ¡hay una página escrita para ti!\n📍 ICPNA Chiclayo\n📅 Del 20 al 24 de abril\n¡Pasa la voz y ven con tus amigos o familia! La entrada al mundo de los libros es libre. 📚🙌\n¿Te lo vas a perder? ¡Agéndalo ya!
URL:https://chiclayo.icpnachi.edu.pe/eventos/4to-festival-libro-lectura
LOCATION:Lambayeque
CATEGORIES:Biblioteca
ATTACH;FMTTYPE=image/jpeg:https://chiclayo.icpnachi.edu.pe/wp-content/uploads/2026/04/668085270_1390602989775479_6617185163698998655_n.jpg
END:VEVENT
BEGIN:VEVENT
DTSTART;VALUE=DATE:20260421
DTEND;VALUE=DATE:20260423
DTSTAMP:20260425T193206
CREATED:20260420T150047Z
LAST-MODIFIED:20260420T150047Z
UID:3589-1776729600-1776902399@chiclayo.icpnachi.edu.pe
SUMMARY:Un mundo para Julius
DESCRIPTION:🎬📚 ¡Proyección Especial! \n“Un mundo para Julius”\, basada en la novela de Alfredo Bryce Echenique\, te invita a ver el mundo desde otra mirada… 👀✨ \n🎭 Dirigida por Rossana Díaz\n👤 Mayores de 12 años \n📅 Martes 21 – 5:30 p.m.\n📅 Miércoles 22 – 7:30 p.m.\n📍 Auditorio ICPNA Chiclayo\n🎟️ Ingreso libre \nSé parte del 4to Festival del Libro y la Lectura y disfruta de esta imperdible adaptación 🎥📖
URL:https://chiclayo.icpnachi.edu.pe/eventos/un-mundo-para-julius
LOCATION:Auditorio – ICPNA CHICLAYO\, Manuel Maria Izaga 807\, Chiclayo\, Lambayeque\, 14001\, Peru
CATEGORIES:Biblioteca
ATTACH;FMTTYPE=image/jpeg:https://chiclayo.icpnachi.edu.pe/wp-content/uploads/2026/04/673861427_1397238515778593_5337664009037594421_n.jpg
END:VEVENT
BEGIN:VEVENT
DTSTART;TZID=America/New_York:20260422T173000
DTEND;TZID=America/New_York:20260422T190000
DTSTAMP:20260425T193206
CREATED:20260425T143141Z
LAST-MODIFIED:20260425T143947Z
UID:3595-1776879000-1776884400@chiclayo.icpnachi.edu.pe
SUMMARY:Taller - Historias que se Dibujan
DESCRIPTION:✏️📖 Dale vida a tus ideas… ¡dibujándolas! \nLlega el taller “Historias que se dibujan”\, un espacio donde la creatividad no tiene límites 🎨✨ \nAprende a crear tu propia historia y transformarla en ilustración junto a:\n👩‍🎨 Desiree Áñez\n👨‍🎨 Christopher Castillo \n📅 Miércoles 22 de abril\n🕠 5:30 p.m.\n📍 Biblioteca Benjamin Franklin – ICPNA Chiclayo \n🎉 Sé parte del 4to Festival del Libro y la Lectura y deja volar tu imaginación
URL:https://chiclayo.icpnachi.edu.pe/eventos/taller-historias-que-se-dibujan
LOCATION:Biblioteca Benjamin Franklin – ICPNA Chiclayo\, Manuel María Izaga 807\, CHICLAYO\, Lambayeque\, 18000\, Peru
CATEGORIES:Biblioteca
ATTACH;FMTTYPE=image/jpeg:https://chiclayo.icpnachi.edu.pe/wp-content/uploads/2026/04/679679080_1401145212054590_8123044368446504249_n.jpg
END:VEVENT
BEGIN:VEVENT
DTSTART;VALUE=DATE:20260423
DTEND;VALUE=DATE:20260425
DTSTAMP:20260425T193206
CREATED:20260414T161228Z
LAST-MODIFIED:20260414T161228Z
UID:3571-1776902400-1777075199@chiclayo.icpnachi.edu.pe
SUMMARY:Feria de Libros
DESCRIPTION:📚✨ ¿Listos para llenar su estantería de nuevas historias? \nEl ICPNA Chiclayo te invita a vivir el 4to Festival del Libro y la Lectura\, con una FERIA DE LIBROS que no te puedes perder: \n🔹 Descubre lo mejor de la producción literaria regional y apoya a autores locales. \n🗓 Jueves 23 y Viernes 24 de abril\n⏰ De 3:30 p.m. a 7:30 p.m.\n📍 Patio ICPNA Chiclayo (Calle María Izaga 807)
URL:https://chiclayo.icpnachi.edu.pe/eventos/feria-de-libros
LOCATION:Patio – ICPNA Chiclayo\, Manuel María Izaga 807 CHICLAYO\, Lambayeque\, 18000\, Peru
CATEGORIES:Biblioteca
ATTACH;FMTTYPE=image/jpeg:https://chiclayo.icpnachi.edu.pe/wp-content/uploads/2026/04/671502141_1393762199459558_1074918863515101786_n.jpg
END:VEVENT
BEGIN:VEVENT
DTSTART;TZID=America/New_York:20260423T173000
DTEND;TZID=America/New_York:20260423T190000
DTSTAMP:20260425T193206
CREATED:20260425T143359Z
LAST-MODIFIED:20260425T143359Z
UID:3598-1776965400-1776970800@chiclayo.icpnachi.edu.pe
SUMMARY:Speaking Circle - “Poe\, fear and the mind”
DESCRIPTION:🗣️🖤 Ready to talk about fear… in English? \nÚnete a nuestro Speaking Circle con el tema: “Poe\, fear and the mind” 🐦‍⬛✨ \nUna experiencia para analizar\, debatir y explorar el terror psicológico desde la obra de Edgar Allan Poe… ¡mientras practicas tu inglés! \n📅 Jueves 23 de abril\n🕠 5:30 p.m.\n📍 Biblioteca Benjamin Franklin – ICPNA Chiclayo \n👥 Dirigido al público con nivel intermedio alto/avanzado de inglés \n🎉 Actividad del 4to Festival del Libro y la Lectura \n¿Te atreves a hablar del miedo? 👀
URL:https://chiclayo.icpnachi.edu.pe/eventos/speaking-circle-poe-fear-and-the-mind
LOCATION:Biblioteca Benjamin Franklin – ICPNA Chiclayo\, Manuel María Izaga 807\, CHICLAYO\, Lambayeque\, 18000\, Peru
CATEGORIES:Biblioteca
ATTACH;FMTTYPE=image/jpeg:https://chiclayo.icpnachi.edu.pe/wp-content/uploads/2026/04/678597410_1402051025297342_7853271509222175043_n.jpg
END:VEVENT
BEGIN:VEVENT
DTSTART;TZID=America/New_York:20260424T173000
DTEND;TZID=America/New_York:20260424T190000
DTSTAMP:20260425T193206
CREATED:20260425T143708Z
LAST-MODIFIED:20260425T143708Z
UID:3601-1777051800-1777057200@chiclayo.icpnachi.edu.pe
SUMMARY:Espectáculo Teatral - El Sastrecillo Valiente
DESCRIPTION:🎭✨ ¡El telón se abre y la historia comienza! \nDisfruta del espectáculo teatral “El sastrecillo valiente”\, a cargo de la agrupación Mueca Teatro 🎉 \nUna puesta en escena llena de humor\, imaginación y aventuras para toda la familia 👏📖 \n📅 Viernes 24 de abril\n🕠 5:30 p.m.\n📍 Auditorio ICPNA Chiclayo\n🎟️ Ingreso libre \n🎉 Vive la magia del teatro en el 4to Festival del Libro y la Lectura
URL:https://chiclayo.icpnachi.edu.pe/eventos/espectaculo-teatral-el-sastrecillo-valiente
LOCATION:Auditorio – ICPNA CHICLAYO\, Manuel Maria Izaga 807\, Chiclayo\, Lambayeque\, 14001\, Peru
CATEGORIES:Biblioteca
ATTACH;FMTTYPE=image/jpeg:https://chiclayo.icpnachi.edu.pe/wp-content/uploads/2026/04/675679426_1402135741955537_661101743731967246_n.jpg
END:VEVENT
BEGIN:VEVENT
DTSTART;TZID=America/New_York:20260424T193000
DTEND;TZID=America/New_York:20260424T210000
DTSTAMP:20260425T193206
CREATED:20260425T144340Z
LAST-MODIFIED:20260425T144340Z
UID:3605-1777059000-1777064400@chiclayo.icpnachi.edu.pe
SUMMARY:Cita Literaria con Edgar Allan Poe
DESCRIPTION:🖤📚 Sumérgete en el misterio… \nLlega la Cita literaria con Edgar Allan Poe\, el maestro del terror y lo desconocido 👁️✨ \nUna experiencia imperdible con:\n🎭 Lectura dramática\n🎬 Audiovisuales\n🧠 Trivias \n👥 Con la participación de Karla Gil y David Céspedes \n📅 Viernes 24 de abril\n🕢 7:30 p.m.\n📍 Auditorio ICPNA Chiclayo\n🎟️ Ingreso libre \n🎉 Vive el lado más oscuro y fascinante de la literatura en el 4to Festival del Libro y la Lectura
URL:https://chiclayo.icpnachi.edu.pe/eventos/cita-literaria-edgar-allan-poe
LOCATION:Auditorio – ICPNA CHICLAYO\, Manuel Maria Izaga 807\, Chiclayo\, Lambayeque\, 14001\, Peru
CATEGORIES:Biblioteca
ATTACH;FMTTYPE=image/jpeg:https://chiclayo.icpnachi.edu.pe/wp-content/uploads/2026/04/678410421_1402137318622046_1823832673627596378_n.jpg
END:VEVENT
END:VCALENDAR